BEGIN:VCALENDAR
VERSION:2.0
PRODID:icalendar-ruby
CALSCALE:GREGORIAN
METHOD:PUBLISH
BEGIN:VTIMEZONE
TZID:Australia/Melbourne
BEGIN:DAYLIGHT
DTSTART:20191006T030000
TZOFFSETFROM:+1000
TZOFFSETTO:+1100
RRULE:FREQ=YEARLY;BYDAY=1SU;BYMONTH=10
TZNAME:AEDT
END:DAYLIGHT
BEGIN:STANDARD
DTSTART:20200405T020000
TZOFFSETFROM:+1100
TZOFFSETTO:+1000
RRULE:FREQ=YEARLY;BYDAY=1SU;BYMONTH=4
TZNAME:AEST
END:STANDARD
END:VTIMEZONE
BEGIN:VEVENT
DTSTAMP:20200302T113301Z
UID:inspection_635104
DTSTART;TZID=Australia/Melbourne:20200307T110000
DTEND;TZID=Australia/Melbourne:20200307T113000
CLASS:PUBLIC
CREATED:20190930T084421
DESCRIPTION: 
LAST-MODIFIED:20200301T204800
LOCATION:48 Balaka Court\, CAPEL SOUND VIC 3940\, Australia
SUMMARY:48 Balaka Court\,  Inspection
URL:http://www.reav.com.au/
END:VEVENT
END:VCALENDAR
