BEGIN:VCALENDAR
VERSION:2.0
PRODID:icalendar-ruby
CALSCALE:GREGORIAN
METHOD:PUBLISH
BEGIN:VTIMEZONE
TZID:Australia/Melbourne
BEGIN:DAYLIGHT
DTSTART:20261004T030000
TZOFFSETFROM:+1000
TZOFFSETTO:+1100
RRULE:FREQ=YEARLY;BYDAY=1SU;BYMONTH=10
TZNAME:AEDT
END:DAYLIGHT
BEGIN:STANDARD
DTSTART:20260405T020000
TZOFFSETFROM:+1100
TZOFFSETTO:+1000
RRULE:FREQ=YEARLY;BYDAY=1SU;BYMONTH=4
TZNAME:AEST
END:STANDARD
END:VTIMEZONE
BEGIN:VEVENT
DTSTAMP:20260424T152916Z
UID:inspection_727257
DTSTART;TZID=Australia/Melbourne:20200620T110000
DTEND;TZID=Australia/Melbourne:20200620T112000
CLASS:PUBLIC
CREATED:20200302T111843
DESCRIPTION: 
LAST-MODIFIED:20200615T095654
LOCATION:19 Greenhill Road\, ROSEBUD VIC 3939\, Australia
SUMMARY:19 Greenhill Road\,  Inspection
URL;VALUE=URI:http://www.reav.com.au/
END:VEVENT
END:VCALENDAR
