BEGIN:VCALENDAR
VERSION:2.0
PRODID:icalendar-ruby
CALSCALE:GREGORIAN
METHOD:PUBLISH
BEGIN:VTIMEZONE
TZID:Australia/Melbourne
BEGIN:DAYLIGHT
DTSTART:20191006T030000
TZOFFSETFROM:+1000
TZOFFSETTO:+1100
RRULE:FREQ=YEARLY;BYDAY=1SU;BYMONTH=10
TZNAME:AEDT
END:DAYLIGHT
BEGIN:STANDARD
DTSTART:20200405T020000
TZOFFSETFROM:+1100
TZOFFSETTO:+1000
RRULE:FREQ=YEARLY;BYDAY=1SU;BYMONTH=4
TZNAME:AEST
END:STANDARD
END:VTIMEZONE
BEGIN:VEVENT
DTSTAMP:20200302T113306Z
UID:inspection_727968
DTSTART;TZID=Australia/Melbourne:20200307T113000
DTEND;TZID=Australia/Melbourne:20200307T115000
CLASS:PUBLIC
CREATED:20200302T183910
DESCRIPTION: 
LAST-MODIFIED:20200302T183945
LOCATION:450 Waterfall Gully Road\, ROSEBUD VIC 3939\, Australia
SUMMARY:450 Waterfall Gully Road\,  Inspection
URL:http://www.reav.com.au/
END:VEVENT
END:VCALENDAR
